BEGIN:VCALENDAR
VERSION:2.0
PRODID:icalendar-ruby
CALSCALE:GREGORIAN
METHOD:PUBLISH
BEGIN:VEVENT
DTSTAMP:20260422T224018Z
UID:9-1655383@gracepoint.ca
DTSTART:20261030T013000Z
DTEND:20261030T033000Z
CLASS:PUBLIC
CREATED:20260422T141627
DESCRIPTION:Thursday Youth Group\nAt Gracepoint our youth (grades 6 to 12) 
 gather every Thursday from 6:30-8:30pm to play games\, worship\, and dig i
 nto God's Word. We have fantastic youth leaders who walk alongside the you
 th and are passionate about discipleship. Grab your friends and come on ou
 t!
LAST-MODIFIED:20260422T141627
LOCATION:Gracepoint Community Church
SUMMARY:Youth Group
URL;VALUE=URI:https://www.gracepoint.ca/events/youth-group/2026-10-29
ATTACH;FILENAME=Youth Logo for website.png;FMTTYPE=image/png:https://dq5pwp
 g1q8ru0.cloudfront.net/2025/02/21/21/50/20/fdab60ce-4462-40bc-b6c2-9d8c98c
 48df3/Youth%20Logo%20for%20website.png
END:VEVENT
END:VCALENDAR
