BEGIN:VCALENDAR
VERSION:2.0
PRODID:icalendar-ruby
CALSCALE:GREGORIAN
METHOD:PUBLISH
BEGIN:VEVENT
DTSTAMP:20260424T101516Z
UID:24-1622459@gracepoint.ca
DTSTART:20260430T020000Z
DTEND:20260430T040000Z
CLASS:PUBLIC
CREATED:20260408T102554
DESCRIPTION:Our next Worship Night will be on April 29th at 7pm\nAll are we
 lcome! \nWe will have an extended period of musical worship\nand a short
  message.
LAST-MODIFIED:20260408T102554
LOCATION:
SUMMARY:Worship Night
URL;VALUE=URI:https://www.gracepoint.ca/events/worship-night--24/2026-04-29
ATTACH;FILENAME=Worship-Night-5.png;FMTTYPE=image/png:https://dq5pwpg1q8ru0
 .cloudfront.net/2026/04/08/17/25/53/80fb53e0-263b-46a8-b54b-cb42e2b4cf3b/W
 orship-Night-5.png
END:VEVENT
END:VCALENDAR
