BEGIN:VCALENDAR
VERSION:2.0
PRODID:icalendar-ruby
CALSCALE:GREGORIAN
METHOD:PUBLISH
BEGIN:VEVENT
DTSTAMP:20260424T053128Z
UID:6-1658308@gracepoint.ca
DTSTART:20261004T170000Z
DTEND:20261004T181500Z
CLASS:PUBLIC
CREATED:20260423T200415
DESCRIPTION:Join us on Sunday mornings at 10am as we gather to worship Go
 d together. \nIf you are watching online\, head to our YouTube channel\,
  Gracepoint TV to watch. The service goes live at 9:55.
LAST-MODIFIED:20260423T200415
LOCATION:Gracepoint Community Church
SUMMARY:Sunday Worship Service
URL;VALUE=URI:https://www.gracepoint.ca/events/sunday-worship-service/2026-
 10-04
ATTACH;FILENAME=G logo (1).png;FMTTYPE=image/png:https://dq5pwpg1q8ru0.clou
 dfront.net/2025/06/04/21/28/29/b4a53d08-98a0-4239-b4de-fbef3b7e105f/G%20lo
 go%20(1).png
END:VEVENT
END:VCALENDAR
